BEGIN:VCALENDAR
PRODID:-//eluceo/ical//2.0/EN
VERSION:2.0
CALSCALE:GREGORIAN
BEGIN:VEVENT
UID:ab364c89a05e36a0a8986f8e438db8c4
DTSTAMP:20260423T133747Z
SUMMARY:Purim Extravaganza
DESCRIPTION:Jewish Federation of West-Central New Jersey\nCommunity Calenda
 r\nhttps://jfedwcnj.org/calendar/purim-extravaganza-1516915119\n\nCome to 
 Temple Sholom for our Purim Extravaganza\, fun for the entire family! We w
 ill start of the day in the sanctuary with a taste of Megillah (bring your
  groggers). We will continue in the social hall for brunch\, Persian Karao
 ke\, Hamantashen baking\, learning and libations with Rabbi Dan\, make gra
 b & go bags for Ronald McDonald House\, make lunches for SHIP\, crafts and
  more!There will be a sensory friendly room available and if you or a fami
 ly member would benefit for a "buddy" at this event ...
DTSTART;TZID=America/New_York:20180225T100000
DTEND;TZID=America/New_York:20180225T120000
END:VEVENT
END:VCALENDAR
