BEGIN:VCALENDAR
PRODID:-//eluceo/ical//2.0/EN
VERSION:2.0
CALSCALE:GREGORIAN
BEGIN:VEVENT
UID:f15d411743b351eed9bca82f3b5e24e0
DTSTAMP:20260422T200919Z
SUMMARY:Purim Carnival
DESCRIPTION:Jewish Federation of West-Central New Jersey\nCommunity Calenda
 r\nhttps://jfedwcnj.org/calendar/purim-carnival-1548379925\n\nFree admissi
 on - Open to the community!   \n\nCome celebrate Purim with fun activities
  and bake some Hamantaschen.\n\nThere will be games for children of all ag
 es\, and prizes! \n\nRefreshments will be available - free for children\, 
 a small cost for adults.
DTSTART;TZID=America/New_York:20190317T100000
DTEND;TZID=America/New_York:20190317T121500
END:VEVENT
END:VCALENDAR
