BEGIN:VCALENDAR
PRODID:-//eluceo/ical//2.0/EN
VERSION:2.0
CALSCALE:GREGORIAN
BEGIN:VEVENT
UID:29b8d61af56ffd2f1853f79fe0ca2441
DTSTAMP:20260422T163202Z
SUMMARY:Protecting Historical Artifacts and Cultural Preservation
DESCRIPTION:Jewish Federation of West-Central New Jersey\nCommunity Calenda
 r\nhttps://jfedwcnj.org/calendar/protecting-historical-artifacts-and-cultu
 ral-preservation\n\nWe are honored to present Protecting Historical Artif
 acts and Cultural Preservation with distinguished scholar and ambassador 
 at large\, Dr. Richard Kurin from the Smithsonian Institute. Join us onlin
 e as we learn about the challenges of preserving historical treasures amid
 st conflict and war and its impact on cultural preservation. To register\,
  please use the following link:\n\nhttps://raritanval-edu.zoom.us/webinar/
 register/WN_-XqEyUkOQqaBaEvsC19rNQ
DTSTART;TZID=America/New_York:20240315T100000
DTEND;TZID=America/New_York:20240315T110000
END:VEVENT
END:VCALENDAR
