BEGIN:VCALENDAR
PRODID:-//eluceo/ical//2.0/EN
VERSION:2.0
CALSCALE:GREGORIAN
BEGIN:VEVENT
UID:818b492de2edf5808ced59fcb7a0dbc2
DTSTAMP:20260422T015748Z
SUMMARY:Protect Yourself from Medicare Fraud  (Online Event)
DESCRIPTION:Jewish Federation of West-Central New Jersey\nCommunity Calenda
 r\nhttps://jfedwcnj.org/calendar/protect-yourself-from-medicare-fraud--onl
 ine-event-1620402727\n\nJoin us for a free online presentation on Medicare
  Fraud\, and have your Medicare questions answered.\n\nMedicare fraud is t
 he intentional billing of Medicare services that were not received\, or we
 re billed at a higher cost.\nLearn how to protect yourself from this type 
 of fraud by identifying the most common signs of Medicare-related scams\, 
 and learning what to do if you become a victim.\n\nThis program will be pr
 esented by Charles Clarkson\, Project Director at Senior Medicare Patrol a
 nd Trus...
DTSTART;TZID=America/New_York:20210609T130000
DTEND;TZID=America/New_York:20210609T141500
END:VEVENT
END:VCALENDAR
