BEGIN:VCALENDAR
PRODID:-//eluceo/ical//2.0/EN
VERSION:2.0
CALSCALE:GREGORIAN
BEGIN:VEVENT
UID:07612285d17a19789db2d41664870538
DTSTAMP:20260423T173356Z
SUMMARY:Primordial Israel
DESCRIPTION:Jewish Federation of West-Central New Jersey\nCommunity Calenda
 r\nhttps://jfedwcnj.org/calendar/primordial-israel-1508854902\n\nJoin Rabb
 i Dan Selsberg at Temple Sholom as he helps us understand the real stories
  of our all-too-human ancestors. The stories of the pious\, the rebellious
 \, the unrepentant\, the rejected\, and the chosen. Free Event for all.
DTSTART;TZID=America/New_York:20171019T110000
DTEND;TZID=America/New_York:20171019T130000
END:VEVENT
END:VCALENDAR
