BEGIN:VCALENDAR
PRODID:-//eluceo/ical//2.0/EN
VERSION:2.0
CALSCALE:GREGORIAN
BEGIN:VEVENT
UID:2e0755d114515aa279db6c97bd5c12ef
DTSTAMP:20260419T165428Z
SUMMARY:President's Day
DESCRIPTION:Jewish Federation of West-Central New Jersey\nCommunity Calenda
 r\nhttps://jfedwcnj.org/calendar/presidents-day2026-507410\n\n
DTSTART;TZID=America/New_York:20260216T000000
DTEND;TZID=America/New_York:20260216T235959
END:VEVENT
END:VCALENDAR
