BEGIN:VCALENDAR
PRODID:-//eluceo/ical//2.0/EN
VERSION:2.0
CALSCALE:GREGORIAN
BEGIN:VEVENT
UID:6933ae0707467863fc741d4e9164dbd3
DTSTAMP:20260422T015908Z
SUMMARY:PRESERVING A PLACE OF TERROR PART 2: BIRKENAU
DESCRIPTION:Jewish Federation of West-Central New Jersey\nCommunity Calenda
 r\nhttps://jfedwcnj.org/calendar/preserving-a-place-of-terror-part-2-birke
 nau\n\nLunch@65West invites you to join us when the Union League Club of C
 hicago and                                          
             The Standard Club again welcome Wojciech Soczewica\, Dir
 ector General of the Auschwitz-Birkenau Foundation. Director General Socze
 wica returns to complete his discussion of the Auschwitz-Birkenau network 
 of 20 camps with club member Michael Traison\, a partner with Cullen & Dyk
 man\, LLP. Part 1 explored Auschwitz\, its buildings\, and the eve...
DTSTART;TZID=America/New_York:20200826T105000
DTEND;TZID=America/New_York:20200826T120000
END:VEVENT
END:VCALENDAR
