BEGIN:VCALENDAR
PRODID:-//eluceo/ical//2.0/EN
VERSION:2.0
CALSCALE:GREGORIAN
BEGIN:VEVENT
UID:206b52ae054dec9ad67c99993693e56d
DTSTAMP:20260422T160036Z
SUMMARY:“First They Killed My Father” A Film With A Child’s-Eye View 
 of War
DESCRIPTION:Jewish Federation of West-Central New Jersey\nCommunity Calenda
 r\nhttps://jfedwcnj.org/calendar/presenting-first-they-killed-my-father-a-
 film-with-a-childs-eye-view-of-war\n\nPresenting: “First They Killed My 
 Father” A Film With A Child’s-Eye View of War    \n\nThursday\, Sep
 tember 21st\, 1 pm - 3:30 pm (In-person) Film Screening\n\nIn this film\, 
 Cambodian author and human rights activist Loung Ung recounts the horrors 
 she suffered as a child under the rule of the deadly Khmer Rouge. Angelina
  Jolie directed this 2017 film. A discussion will follow. \n\nTo register
 \, contact Michelle Edgar\, Program Specialist\, at michelle.edgar@raritan
 val.edu \n\n 
DTSTART;TZID=America/New_York:20230921T130000
DTEND;TZID=America/New_York:20230921T153000
END:VEVENT
END:VCALENDAR
