BEGIN:VCALENDAR
PRODID:-//eluceo/ical//2.0/EN
VERSION:2.0
CALSCALE:GREGORIAN
BEGIN:VEVENT
UID:56054dc34daffb35cdb35667b163bd75
DTSTAMP:20260423T202353Z
SUMMARY:Pre Passover Fun!
DESCRIPTION:Jewish Federation of West-Central New Jersey\nCommunity Calenda
 r\nhttps://jfedwcnj.org/calendar/pre-passover-fun-1457992188\n\nAre you lo
 oking for a Temple or Hebrew School? All Families are welcome to join us o
 n this evening for Pizza\, and a craft for the kids\, and a Question and A
 nswer session with local Synagogues and Hebrew Schools.  A list of partici
 pating organizations coming soon.
DTSTART;TZID=America/New_York:20160412T173000
DTEND;TZID=America/New_York:20160412T193000
END:VEVENT
END:VCALENDAR
