BEGIN:VCALENDAR
PRODID:-//eluceo/ical//2.0/EN
VERSION:2.0
CALSCALE:GREGORIAN
BEGIN:VEVENT
UID:62c63e963a76983f1aa4d8021d5ce760
DTSTAMP:20260424T014937Z
SUMMARY:Praying with Lior: Reelabilities Film Festival
DESCRIPTION:Jewish Federation of West-Central New Jersey\nCommunity Calenda
 r\nhttps://jfedwcnj.org/calendar/praying-with-lior\n\n87 Minutes\n$10/pers
 on\n\n\nAdmission is complimentary for Irma Horowitz Film Series Patrons.\
 n\nPraying with Lior asks whether someone with Down syndrome can be a spir
 itual genius. Many believe Lior is close to God -- at least that's what hi
 s family and community believe -- though he's also a burden\, a best frien
 d\, an inspiration and an embarrassment\, depending on who is asked and wh
 en. As this documentary moves to its climax\, Lior must pass through the g
 ateway to manhood - his Bar Mitzv...
DTSTART;TZID=America/New_York:20230201T190000
DTEND;TZID=America/New_York:20230201T210000
END:VEVENT
END:VCALENDAR
