BEGIN:VCALENDAR
PRODID:-//eluceo/ical//2.0/EN
VERSION:2.0
CALSCALE:GREGORIAN
BEGIN:VEVENT
UID:a300479cefc1e0f772ee44aad2048969
DTSTAMP:20260421T154557Z
SUMMARY:Poor Man's Feast-Love Story of Comfort\,  Desire & the Art of Simpl
 e Cooking
DESCRIPTION:Jewish Federation of West-Central New Jersey\nCommunity Calenda
 r\nhttps://jfedwcnj.org/calendar/poor-mans-feast-love-story-of-comfort-des
 ire--the-art-of-simple-cooking\n\nElissa Altman\nFee: $10/person in advanc
 e\; $12/person day of event (includes refreshments)\n\nFrom James Beard Aw
 ard-winning writer Elissa Altman\, comes a story that marries wit and warm
 th\, and flavor to passion. Born and raised in New York to a food-phobic m
 other and food-fanatical father\, Elissa was trained early on that fancy i
 s always best. But love does strange things to people\, and when Elissa m
 et Susan - a small-town Connecticut Yankee with parsimonious tendencies an
 d a devotion to simp...
DTSTART;TZID=America/New_York:20151115T093000
DTEND;TZID=America/New_York:20151115T103000
END:VEVENT
END:VCALENDAR
