BEGIN:VCALENDAR
PRODID:-//eluceo/ical//2.0/EN
VERSION:2.0
CALSCALE:GREGORIAN
BEGIN:VEVENT
UID:0ea73cc1cfa43aa6fcb5466e006da9fb
DTSTAMP:20260423T212313Z
SUMMARY:Play: “A Modest Suggestion”
DESCRIPTION:Jewish Federation of West-Central New Jersey\nCommunity Calenda
 r\nhttps://jfedwcnj.org/calendar/play-modest-suggestion\n\n'A Modest Sugge
 stion' asks: Why do racism and anti-Semitism exist? What does it mean to b
 e Jewish? How does racism turn into violence? And\, do Jews eat bacon? \n
 \n\nSunday October 30\, 2016\, 2:00PM\nDiscussion to follow\nRSVP: 908-782
 -6410\n\n\n\n$25.00/pp 
DTSTART;TZID=America/New_York:20161030T140000
DTEND;TZID=America/New_York:20161030T160000
END:VEVENT
END:VCALENDAR
