BEGIN:VCALENDAR
PRODID:-//eluceo/ical//2.0/EN
VERSION:2.0
CALSCALE:GREGORIAN
BEGIN:VEVENT
UID:f79ad6574d3aca3367bec5bf0c455aa3
DTSTAMP:20260423T111343Z
SUMMARY:Philip Boehm translator of The Passenger by Ulrlich Boschwitz
DESCRIPTION:Jewish Federation of West-Central New Jersey\nCommunity Calenda
 r\nhttps://jfedwcnj.org/calendar/philip-boehm-translator-of-the-passenger-
 by-ulrlich-boschwitz\n\nJoin us at the Flemington Jewish Community Center 
 for a Zoom Event with translator Philip Boehm as we discuss The Passenger 
 by Ulrich Boschwitz. The Passenger is a riveting story about a fugitive hi
 ding in plain sight after Kristallnacht. A tragic-comic story of a wealthy
  Jewish Berliner forced into a Hitchcockian absurdist existence.  \n\nO
 ptional Donation\n\nVaccination required\, masks optional. 
DTSTART;TZID=America/New_York:20220404T190000
DTEND;TZID=America/New_York:20220404T210000
END:VEVENT
END:VCALENDAR
