BEGIN:VCALENDAR
PRODID:-//eluceo/ical//2.0/EN
VERSION:2.0
CALSCALE:GREGORIAN
BEGIN:VEVENT
UID:e9a0fceb9eff661701819c869e479b0c
DTSTAMP:20260423T014206Z
SUMMARY:PEAS\, LOVE\, & CARROTS THE COOKBOOK – DANIELLE RENOV
DESCRIPTION:Jewish Federation of West-Central New Jersey\nCommunity Calenda
 r\nhttps://jfedwcnj.org/calendar/peas-love--carrots-the-cookbook--danielle
 -renov-1600782060\n\nDelicious recipes and beautiful art and photos worthy
  of space in your kitchen and on your coffee table!\n\n An extension of th
 e @peaslovencarrots community Danielle has built\, where tens of thousands
  of people tune in daily for recipes and cooking tutorials\, lifestyle tip
 s\, and all things family related!\n\n With 254+ approachable recipes and 
 186+ gorgeous photos that draw inspiration from Danielle&rsquo\;s Sephardi
 c and Ashkenazi roots\, there is plenty in here for every person and every
 ...
DTSTART;TZID=America/New_York:20201119T120000
DTEND;TZID=America/New_York:20201119T140000
END:VEVENT
END:VCALENDAR
