BEGIN:VCALENDAR
PRODID:-//eluceo/ical//2.0/EN
VERSION:2.0
CALSCALE:GREGORIAN
BEGIN:VEVENT
UID:27a39afa2e58768a087e5dff8f8a996b
DTSTAMP:20260423T041458Z
SUMMARY:Peaceful Parenting Workshops at the JCC with Kelly Burkett\, LPC
DESCRIPTION:Jewish Federation of West-Central New Jersey\nCommunity Calenda
 r\nhttps://jfedwcnj.org/calendar/peaceful-parenting-workshops-at-the-jcc-w
 ith-kelly-burkett-lpc-1550002649\n\nWednesday\, March 6: Siblings: In this
  workshop\, we will talk about what causes sibling rivalry\, ways to reduc
 e the competition and fighting and how you can help your children create a
  close and harmonious bond for life. We will talk specifically about how t
 o respond (what to actually say and do) in the moment when your children a
 re fighting\, yelling or hitting each other.Individual work shop fee (per 
 couple): $25 in advance\, $30 at the door. Register online or at the Welco
 me Center or by call...
DTSTART;TZID=America/New_York:20190306T193000
DTEND;TZID=America/New_York:20190306T210000
END:VEVENT
END:VCALENDAR
