BEGIN:VCALENDAR
PRODID:-//eluceo/ical//2.0/EN
VERSION:2.0
CALSCALE:GREGORIAN
BEGIN:VEVENT
UID:acfae67e2740e7b717384db566acbec5
DTSTAMP:20260423T081208Z
SUMMARY:Peaceful Parenting Workshops at the JCC with Kelly Burkett\, LPC
DESCRIPTION:Jewish Federation of West-Central New Jersey\nCommunity Calenda
 r\nhttps://jfedwcnj.org/calendar/peaceful-parenting-workshops-at-the-jcc-w
 ith-kelly-burkett-lpc-1550002375\n\nWednesday\, February 20: Rethinking Di
 scipline: In this workshop\, we will talk about why children misbehave and
  what the research show about various forms of punishment. More importantl
 y\, we will discuss what DOES work to increase your child's cooperation an
 d compliance and decrease unwanted behaviors.Individual work shop fee (per
  couple): $25 in advance\, $30 at the door. Register online or at the Welc
 ome Center\, or by calling 908-443-9018
DTSTART;TZID=America/New_York:20190220T193000
DTEND;TZID=America/New_York:20190220T210000
END:VEVENT
END:VCALENDAR
