BEGIN:VCALENDAR
PRODID:-//eluceo/ical//2.0/EN
VERSION:2.0
CALSCALE:GREGORIAN
BEGIN:VEVENT
UID:9aadf8b3d97ab9d0a7c092ac4300540e
DTSTAMP:20260422T145738Z
SUMMARY:Paula Shoyer:The New Passover Menu
DESCRIPTION:Jewish Federation of West-Central New Jersey\nCommunity Calenda
 r\nhttps://jfedwcnj.org/calendar/paula-shoyerthe-new-passover-menu-1457983
 977\n\nPassover is a celebration of freedom.  Are you looking to update yo
 ur Passover menu? Of course you are&hellip\; who isn&rsquo\;t?! Join us as
   Paula Shoyer and author of several Jewish cookbooks\, delivers an innova
 tive Passover collection that\ncelebrates culinary freedom\, while still h
 onoring the holiday&rsquo\;s dietary rules. Her dishes combine all the nos
 talgic\npleasure of family favorites with 65 contemporary creations sure t
 o please all cooks. Shoyer redefines Passover dining with updated and glob
 al...
DTSTART;TZID=America/New_York:20160406T120000
DTEND;TZID=America/New_York:20160406T140000
END:VEVENT
END:VCALENDAR
