BEGIN:VCALENDAR
PRODID:-//eluceo/ical//2.0/EN
VERSION:2.0
CALSCALE:GREGORIAN
BEGIN:VEVENT
UID:51bbd3cdd57130687165a71d61bfc48f
DTSTAMP:20260423T124027Z
SUMMARY:Paint and Sip Night at the JCC for All Ages!
DESCRIPTION:Jewish Federation of West-Central New Jersey\nCommunity Calenda
 r\nhttps://jfedwcnj.org/calendar/paint-and-sip-night-at-the-jcc-for-all-ag
 es-1619729178\n\nPaint & Sip Night for All Ages! (Adults and Children Ages
  6+) Thursday\, May 6 at 5:30 PM (Preregister by Tuesday\, May 4) Held on 
 JCC Camp Grounds!Children will paint a picture\, (could be for Mother's Da
 y!). Adults can paint and sip (BYO) while creating their own “Picasso”
 ! $12/ Person Discounted Member $15/Person Non-Member Fee
DTSTART;TZID=America/New_York:20210506T173000
DTEND;TZID=America/New_York:20210506T190000
END:VEVENT
END:VCALENDAR
