BEGIN:VCALENDAR
PRODID:-//eluceo/ical//2.0/EN
VERSION:2.0
CALSCALE:GREGORIAN
BEGIN:VEVENT
UID:f2b6628146d44a6f06ee6f1da1f28b6a
DTSTAMP:20260421T105635Z
SUMMARY:Oz Pearlman – World-Renowned Mentalist and Mind Reader
DESCRIPTION:Jewish Federation of West-Central New Jersey\nCommunity Calenda
 r\nhttps://jfedwcnj.org/calendar/oz-pearlman--world-renowned-mentalist-and
 -mind-reader-1571328688\n\nThe Wilf Campus for Senior Living presents worl
 d-renowned mentalist and mind reader Oz Pearlman! As seen on America&rsquo
 \;s Got Talent.\n\nDoors open at 6:30 PM\nDessert reception following prog
 ram.\nGeneral Admission: $54\nFor tickets\, call 732-649-3515 or email gbr
 aunstein@wilfcampus.org\, or send in your check (payable to The Foundation
  at The Wilf Campus) to: The Wilf Campus for Senior Living\, 354 DeMott La
 ne\, Somerset\, NJ 08873
DTSTART;TZID=America/New_York:20191027T190000
DTEND;TZID=America/New_York:20191027T210000
END:VEVENT
END:VCALENDAR
