BEGIN:VCALENDAR
PRODID:-//eluceo/ical//2.0/EN
VERSION:2.0
CALSCALE:GREGORIAN
BEGIN:VEVENT
UID:9384b6f6949b5b1cb199a93aec0a6807
DTSTAMP:20260420T203151Z
SUMMARY:Or Chadash 2nd Night Congregational Seder
DESCRIPTION:Jewish Federation of West-Central New Jersey\nCommunity Calenda
 r\nhttps://jfedwcnj.org/calendar/or-chadash-2nd-night-congregational-seder
 -1522077151\n\nEach year the Jewish People throughout the world gather aro
 und the Seder table\, united in our collective memory of the passage from 
 slavery to freedom. It is our pleasure to invite you and your family to jo
 in us for our Or Chadash Congregational Seder.  We will join together in 
 story (Haggadah means "the telling") and song as together we create a mean
 ingful holiday experience. Please RSVP by Monday\, March 26th. Thank you
 !\n\nAlso\, please bring one or more of the following: a bottle of your...
DTSTART;TZID=America/New_York:20180331T173000
DTEND;TZID=America/New_York:20180331T203000
END:VEVENT
END:VCALENDAR
