BEGIN:VCALENDAR
PRODID:-//eluceo/ical//2.0/EN
VERSION:2.0
CALSCALE:GREGORIAN
BEGIN:VEVENT
UID:3baa91a9c25d06469fc74372c6bb18e8
DTSTAMP:20260422T132502Z
SUMMARY:Opera Concert with Julie Stevens
DESCRIPTION:Jewish Federation of West-Central New Jersey\nCommunity Calenda
 r\nhttps://jfedwcnj.org/calendar/opera-concert-with-julie-stevens-14213429
 70\n\nBack By Popular DemandPlease join us for an Opera Concert with Julie
  Stevens on Sunday\, January 25\, 2015 at 2PM. Soprano Julie Lauren Steven
 s has performed in opera productions\, concerts\, and recitals across the 
 world. A versatile performer\, Ms. Stevens’ most recent roles include Yu
 m-Yum (Gilbert & Sullivan\, The Ballet!)\, Ensemble (Olivio e Pasquale)\, 
 Marzelline (Fidelio)\, and Euridice (Orfero Ed Euridice). Ms. Stevens is a
  graduate of both New England Conservatory and New York University. ...
DTSTART;TZID=America/New_York:20150125T140000
DTEND;TZID=America/New_York:20150125T150000
END:VEVENT
END:VCALENDAR
