BEGIN:VCALENDAR
PRODID:-//eluceo/ical//2.0/EN
VERSION:2.0
CALSCALE:GREGORIAN
BEGIN:VEVENT
UID:7f004bafa841e4688ca9d75a6f6e551c
DTSTAMP:20260423T175229Z
SUMMARY:OpenDor Media Event
DESCRIPTION:Jewish Federation of West-Central New Jersey\nCommunity Calenda
 r\nhttps://jfedwcnj.org/calendar/opendor-media-event\n\nmore detials comin
 g soon 
DTSTART;TZID=America/New_York:20241014T190000
DTEND;TZID=America/New_York:20241014T210000
END:VEVENT
END:VCALENDAR
