BEGIN:VCALENDAR
PRODID:-//eluceo/ical//2.0/EN
VERSION:2.0
CALSCALE:GREGORIAN
BEGIN:VEVENT
UID:6621996404435b1b2eeb875f11d2e938
DTSTAMP:20260420T080628Z
SUMMARY:Open Mic Night
DESCRIPTION:Jewish Federation of West-Central New Jersey\nCommunity Calenda
 r\nhttps://jfedwcnj.org/calendar/open-mic-night\n\nWe are inviting musicia
 ns (and singers) to sign up and perform either covers or their own origina
 l songs. Performances are usually limited to about three songs.\n\nJeffrey
  Ogden MC\n\n\nFree Admission\n\n\nFor questions or to register\, email 
 Marilyn or call 908-443-9018
DTSTART;TZID=America/New_York:20251106T180000
DTEND;TZID=America/New_York:20251106T200000
END:VEVENT
END:VCALENDAR
