BEGIN:VCALENDAR
PRODID:-//eluceo/ical//2.0/EN
VERSION:2.0
CALSCALE:GREGORIAN
BEGIN:VEVENT
UID:91a2f3b5e6106629a5b1f15cd52343cc
DTSTAMP:20260421T200728Z
SUMMARY:Open House @ TBE
DESCRIPTION:Jewish Federation of West-Central New Jersey\nCommunity Calenda
 r\nhttps://jfedwcnj.org/calendar/open-house--tbe-1657902307\n\nSearching f
 or a Jewish Home? Come discover Temple Beth-El. Meet our clergy and educat
 ion team\, tour our building\, and explore our ritual life and religious s
 chool program. Family members of all ages are welcome.
DTSTART;TZID=America/New_York:20220725T163000
DTEND;TZID=America/New_York:20220725T183000
END:VEVENT
END:VCALENDAR
