BEGIN:VCALENDAR
PRODID:-//eluceo/ical//2.0/EN
VERSION:2.0
CALSCALE:GREGORIAN
BEGIN:VEVENT
UID:7caf79bc066f4d4376537e628cd4b3af
DTSTAMP:20260422T033122Z
SUMMARY:Online Presentation: Unpacking The Past with Silvia Foti and Grant 
 Gochin
DESCRIPTION:Jewish Federation of West-Central New Jersey\nCommunity Calenda
 r\nhttps://jfedwcnj.org/calendar/online-presentation-unpacking-the-past-wi
 th-silvia-foti-and-grant-gochin\n\nThe Institute of Holocaust and Genocide
  Studies at Raritan Valley Community College is pleased to present Silvia 
 Foti and Grant Gochin as they address Holocaust revisionism in Lithuania. 
 Ms. Foti will share her family's history through her profoundly moving boo
 k\, The Nazi's Grandaughter: How I Discovered My Grandfather Was a War Cr
 iminal. Ms. Foti and Mr. Gochin will discuss their efforts to expose the 
 truth of what happened during the Holocaust in Lithuania. Q&A with the att
 endees will fol...
DTSTART;TZID=America/New_York:20210930T130000
DTEND;TZID=America/New_York:20210930T140000
END:VEVENT
END:VCALENDAR
