BEGIN:VCALENDAR
PRODID:-//eluceo/ical//2.0/EN
VERSION:2.0
CALSCALE:GREGORIAN
BEGIN:VEVENT
UID:a160623877bd292277ff9dee97646751
DTSTAMP:20260423T195650Z
SUMMARY:Online film presentation: From Swastika to Jim Crow
DESCRIPTION:Jewish Federation of West-Central New Jersey\nCommunity Calenda
 r\nhttps://jfedwcnj.org/calendar/online-film-presentation-from-swastika-to
 -jim-crow\n\nOnline film presentation: From Swastika to Jim Crow\n\nJoin u
 s online to view a timely documentary film\, From Swastika to Jim Crow. T
 his film tells the little-known story of Jewish professors and intellectua
 ls who escaped Nazi Germany to the US in the 1930s. Confronted with antise
 mitism at American universities and public distrust of foreigners\, they s
 ecured teaching positions at Traditionally Black Colleges in the then-segr
 egated South. The complex interactions between these two groups are ...
DTSTART;TZID=America/New_York:20210917T100000
DTEND;TZID=America/New_York:20210917T110000
END:VEVENT
END:VCALENDAR
