BEGIN:VCALENDAR
PRODID:-//eluceo/ical//2.0/EN
VERSION:2.0
CALSCALE:GREGORIAN
BEGIN:VEVENT
UID:6f38795e84572d932fc9f84bbb4a27c9
DTSTAMP:20260420T203121Z
SUMMARY:Online Discussion with Author Anna Salton Eisen
DESCRIPTION:Jewish Federation of West-Central New Jersey\nCommunity Calenda
 r\nhttps://jfedwcnj.org/calendar/online-discussion-with-author-anna-salton
 -eisen\n\nJoin us for this online discussion with the author\, Anna Salton
  Eisen. Anna was an adult when she finally broke her parents’ silence ab
 out their Holocaust experiences. That silence\, which they hoped would pro
 tect their children\, became a burden for Anna. In this heart-wrenching me
 moir\, she recounts her accidental discovery\, as a youth\, of two waterco
 lor paintings by her father that depict the horrors of the Holocaust. She 
 then set out in secret to uncover the truth about his past. Only year...
DTSTART;TZID=America/New_York:20241206T100000
DTEND;TZID=America/New_York:20241206T110000
END:VEVENT
END:VCALENDAR
