BEGIN:VCALENDAR
PRODID:-//eluceo/ical//2.0/EN
VERSION:2.0
CALSCALE:GREGORIAN
BEGIN:VEVENT
UID:eef9e16c3d0d2bfca5e02c4f6110951f
DTSTAMP:20260422T083145Z
SUMMARY:Online Community-Wide Kristallnacht Commemoration
DESCRIPTION:Jewish Federation of West-Central New Jersey\nCommunity Calenda
 r\nhttps://jfedwcnj.org/calendar/online-community-wide-kristallnacht-comme
 moration\n\nOnline Community-Wide Kristallnacht Commemoration \n\n \n\nI
 n partnership with The Jewish Federation of Somerset\, Hunterdon\, and War
 ren Counties\, The JCC Holocaust Memorial and Education Center\, The Shimo
 n and Sara Birnbaum JCC\, JEWISH LIFE\, and Jewish Family Services\, we ar
 e proud to present the film screening of Rebuilt From Broken Glass in comm
 emoration of Kristallnacht. A discussion and Q&A will follow this 40-minut
 e film with Holocaust survivor Fred Behrend and director Larry Hanover....
DTSTART;TZID=America/New_York:20221102T190000
DTEND;TZID=America/New_York:20221102T200000
END:VEVENT
END:VCALENDAR
