BEGIN:VCALENDAR
PRODID:-//eluceo/ical//2.0/EN
VERSION:2.0
CALSCALE:GREGORIAN
BEGIN:VEVENT
UID:64c30540738a1e5cdb645eb64273114d
DTSTAMP:20260423T053515Z
SUMMARY:One Year after October 7: A Conversation with Miriam Herschlag
DESCRIPTION:Jewish Federation of West-Central New Jersey\nCommunity Calenda
 r\nhttps://jfedwcnj.org/calendar/one-year-after-october-7-a-conversation-w
 ith-miriam-herschlag-1726079327\n\nJoin a discussion between Miriam Hersch
 lag\, opinion and blogs editor for The Times of Israel\, and Nancy Sinkoff
 \, the Bildner Center’s academic director\, one year after the October 7
  attack on Israel. Raised in New Jersey\, Herschlag has been based in Tel 
 Aviv for decades\, working as a writer\, editor\, and broadcaster. Known f
 or her keen observations of Israeli politics and society\, she is widely r
 espected for her expertise on the latest ideas about Israel and Jewish lif
 e. Register for this fr...
DTSTART;TZID=America/New_York:20241009T120000
DTEND;TZID=America/New_York:20241009T130000
END:VEVENT
END:VCALENDAR
