BEGIN:VCALENDAR
PRODID:-//eluceo/ical//2.0/EN
VERSION:2.0
CALSCALE:GREGORIAN
BEGIN:VEVENT
UID:2682eeacba5cd7acb41f09ca71619709
DTSTAMP:20260422T231524Z
SUMMARY:One American Dream with Bernard Beck
DESCRIPTION:Jewish Federation of West-Central New Jersey\nCommunity Calenda
 r\nhttps://jfedwcnj.org/calendar/one-american-dream-with-bernard-beck\n\nT
 ouching on the influence of religious faith in the secular world\, debut n
 ovelist Beck intriguingly examines Jewish immigrant life in New York City 
 during the early 20th century. In July 1890\, arriving in America from Min
 sk\, Jacob Rubinowitz decided to become Jack Rubin. In this three-generati
 on family story\, Jack is the catalyst\, and Beck paints a portrait of a m
 an equally admirable and frustrating. After youthful struggles\, Jack marr
 ies Rose\, the daughter of immigrant scholar Ben-Zion Perlm...
DTSTART;TZID=America/New_York:20171026T193000
DTEND;TZID=America/New_York:20171026T213000
END:VEVENT
END:VCALENDAR
