BEGIN:VCALENDAR
PRODID:-//eluceo/ical//2.0/EN
VERSION:2.0
CALSCALE:GREGORIAN
BEGIN:VEVENT
UID:5dd707462e2adc8dec8202e84a84d28a
DTSTAMP:20260422T084534Z
SUMMARY:Once We Were Home: Online Book Launch with author\, Jennifer Rosner
 !
DESCRIPTION:Jewish Federation of West-Central New Jersey\nCommunity Calenda
 r\nhttps://jfedwcnj.org/calendar/once-we-were-home-online-book-launch-with
 -author-jennifer-rosner\n\nPlease join us as we are thrilled to have the a
 uthor of The Yellow Bird Sings\, Jennifer Rosner\, returning as we discus
 s her NEW book\, Once We Were Home. Once We Were Home is hitting booksto
 res’ shelves on March 14th\, and we are fortunate to have Jennifer disc
 uss her new book with us! This story reveals a little-known history. Based
  on the true accounts of children stolen during wartime\, this heart-wrenc
 hing novel raises questions of complicity and responsibility\, belonging a
 nd identity\,...
DTSTART;TZID=America/New_York:20230324T100000
DTEND;TZID=America/New_York:20230324T110000
END:VEVENT
END:VCALENDAR
