BEGIN:VCALENDAR
PRODID:-//eluceo/ical//2.0/EN
VERSION:2.0
CALSCALE:GREGORIAN
BEGIN:VEVENT
UID:af82ae9f47a0a53504921bbc4c288ceb
DTSTAMP:20260422T110444Z
SUMMARY:ONCE A GIRL\, ALWAYS A BOY-JO IVESTER
DESCRIPTION:Jewish Federation of West-Central New Jersey\nCommunity Calenda
 r\nhttps://jfedwcnj.org/calendar/once-a-girl-always-a-boy-jo-ivester-16007
 84124\n\nJeremy Ivester is a transgender man. Thirty years ago\, his paren
 ts welcomed him into the world as what they thought was their daughter. As
  a child\, he preferred the toys and games our society views as masculine.
  He kept his hair short and wore boys&rsquo\; clothing. They called him a 
 tomboy. That&rsquo\;s what he called himself.\n\n By high school\, when he
  showed no interest in flirting\, his parents thought he might be lesbian.
  At twenty\, he wondered if he was asexual. At twenty-three\, he surgicall
 y...
DTSTART;TZID=America/New_York:20210603T190000
DTEND;TZID=America/New_York:20210603T210000
END:VEVENT
END:VCALENDAR
