BEGIN:VCALENDAR
PRODID:-//eluceo/ical//2.0/EN
VERSION:2.0
CALSCALE:GREGORIAN
BEGIN:VEVENT
UID:454c5f7808088fa2b80caacffd41c764
DTSTAMP:20260424T014521Z
SUMMARY:October Jewish Federation Board Meeting
DESCRIPTION:Jewish Federation of West-Central New Jersey\nCommunity Calenda
 r\nhttps://jfedwcnj.org/calendar/october-jewish-federation-board-meeting\n
 \nOctober Jewish Federation Board Meeting
DTSTART;TZID=America/New_York:20151020T063000
DTEND;TZID=America/New_York:20151020T210000
END:VEVENT
END:VCALENDAR
