BEGIN:VCALENDAR
PRODID:-//eluceo/ical//2.0/EN
VERSION:2.0
CALSCALE:GREGORIAN
BEGIN:VEVENT
UID:9c6d735cd7bce3cb8972d69f7f196a1c
DTSTAMP:20260423T093204Z
SUMMARY:November Jewish Federation Board Meeting
DESCRIPTION:Jewish Federation of West-Central New Jersey\nCommunity Calenda
 r\nhttps://jfedwcnj.org/calendar/november-jewish-federation-board-meeting\
 n\nNovember Jewish Federation Board Meeting
DTSTART;TZID=America/New_York:20151117T183000
DTEND;TZID=America/New_York:20151117T210000
END:VEVENT
END:VCALENDAR
