BEGIN:VCALENDAR
PRODID:-//eluceo/ical//2.0/EN
VERSION:2.0
CALSCALE:GREGORIAN
BEGIN:VEVENT
UID:b44aaa02b0b4a0bc3cf6165a75f0b302
DTSTAMP:20260423T194706Z
SUMMARY:NJ ELI Briefing with Amanda Berman
DESCRIPTION:Jewish Federation of West-Central New Jersey\nCommunity Calenda
 r\nhttps://jfedwcnj.org/calendar/nj-eli-briefing-with-amanda-berman-157192
 7956\n\nAn opportunity for those in our Emerging Leadership Initiative (30
 s&40s) to engage in wider conversations about the US-Israel relationship a
 nd how to get involved in Israel advocacy. A thank you to members for prov
 iding the vital resources needed to keep Israel safe and America strong.
DTSTART;TZID=America/New_York:20191219T193000
DTEND;TZID=America/New_York:20191219T210000
END:VEVENT
END:VCALENDAR
