BEGIN:VCALENDAR
PRODID:-//eluceo/ical//2.0/EN
VERSION:2.0
CALSCALE:GREGORIAN
BEGIN:VEVENT
UID:39cb823285746e8ba2e328713dbf62d2
DTSTAMP:20260421T224327Z
SUMMARY:New Film Sneak Peek: The Adventures of Saul Bellow
DESCRIPTION:Jewish Federation of West-Central New Jersey\nCommunity Calenda
 r\nhttps://jfedwcnj.org/calendar/new-film-sneak-peek-the-adventures-of-sau
 l-bellow-1579716215\n\nThe Abram Matlofsky Memorial Program supported by t
 he Karma Foundation\nCosponsored by the Department of American Studies and
  the Americanist Seminar of the Department of English\n\nDirector: Asaf Ga
 lay\n2020\, 85 minutes\, in English\n\nFeaturing a post screening discussi
 on with the filmmaker Asaf Galay and Louis Masur\, distinguished professor
  of American studies and history\, Rutgers University.\n\nSaul Bellow was 
 one of the twentieth-century America's most acclaimed novelists\, winner o
 f the N...
DTSTART;TZID=America/New_York:20200225T190000
DTEND;TZID=America/New_York:20200225T210000
END:VEVENT
END:VCALENDAR
