BEGIN:VCALENDAR
PRODID:-//eluceo/ical//2.0/EN
VERSION:2.0
CALSCALE:GREGORIAN
BEGIN:VEVENT
UID:73cc68b916d61cbf1fe7b1f9ce71c7bb
DTSTAMP:20260423T211007Z
SUMMARY:The Nerds in Concert
DESCRIPTION:Jewish Federation of West-Central New Jersey\nCommunity Calenda
 r\nhttps://jfedwcnj.org/calendar/nerds-c\n\nMore information to come
DTSTART;TZID=America/New_York:20231028T190000
DTEND;TZID=America/New_York:20231028T230000
END:VEVENT
END:VCALENDAR
