BEGIN:VCALENDAR
PRODID:-//eluceo/ical//2.0/EN
VERSION:2.0
CALSCALE:GREGORIAN
BEGIN:VEVENT
UID:ee021dc9fed3e3e1ba887a29d42afa11
DTSTAMP:20260421T234033Z
SUMMARY:Judith Viorst - Nearing Ninety:  And Other Comedies of Late Life
DESCRIPTION:Jewish Federation of West-Central New Jersey\nCommunity Calenda
 r\nhttps://jfedwcnj.org/calendar/nearing-ninety-and-other-comedies-of-late
 -life\n\nIn Nearing Ninety: And Other Comedies of Late Life\, Judith Vior
 st candidly shares the complicated joys and everyday tribulations that awa
 it us at the age of ninety\, all with a large dose of humor and an underst
 anding that nothing - well\, almost nothing - in life should be taken too 
 seriously. While she stuggles to make it to midnight on New Years Eve\, wh
 ile she's starting to hear more eulogies than symphonies\, while she'll fo
 rever be disheartened by what she weighs (and forever unable to sto...
DTSTART;TZID=America/New_York:20200304T120000
DTEND;TZID=America/New_York:20200304T140000
END:VEVENT
END:VCALENDAR
