BEGIN:VCALENDAR
PRODID:-//eluceo/ical//2.0/EN
VERSION:2.0
CALSCALE:GREGORIAN
BEGIN:VEVENT
UID:1f7baf3d87c2958dd40f2d94989aeb92
DTSTAMP:20260422T151605Z
SUMMARY:NATAN SHARANSKY AND GIL TROY\, NEVER ALONE
DESCRIPTION:Jewish Federation of West-Central New Jersey\nCommunity Calenda
 r\nhttps://jfedwcnj.org/calendar/natan-sharansky-and-gil-troy-never-alone-
 1600780250\n\nNever Alone is a classic account of courage\, integrity and 
 belonging. In 1977\, Natan Sharansky\, a leading activist for the democrat
 ic dissident movement in the Soviet Union and the movement for free Jewish
  emigration\, was arrested. He spent nine years as a political prisoner\, 
 convicted of treason against the state. In Never Alone\, Natan Sharansky a
 nd historian Gil Troy show how Sharansky&rsquo\;s years in prison\, many s
 pent in harsh solitary confinement\, prepared him for his public life\, br
 inging...
DTSTART;TZID=America/New_York:20201108T130000
DTEND;TZID=America/New_York:20201108T140000
END:VEVENT
END:VCALENDAR
