BEGIN:VCALENDAR
PRODID:-//eluceo/ical//2.0/EN
VERSION:2.0
CALSCALE:GREGORIAN
BEGIN:VEVENT
UID:a75f4cfe3075d5195c4c6e42cbe35571
DTSTAMP:20260423T041508Z
SUMMARY:NANCY GRACE\, DON’T BE A VICTIM: FIGHTING BACK AGAINST AMERICA’
 S CRIME WAVE
DESCRIPTION:Jewish Federation of West-Central New Jersey\nCommunity Calenda
 r\nhttps://jfedwcnj.org/calendar/nancy-grace-dont-be-a-victim-fighting-bac
 k-against-americas-crime-wave-1600357134\n\nDiscover gripping true crime s
 tories and the surprising tools you need to keep you and your family safe 
 &mdash\; from iconic legal commentator\, TV journalist\, and New York Time
 s bestselling author Nancy Grace. Nancy Grace wasn&rsquo\;t always the inf
 luential legal authority we know today. One moment changed her future fore
 ver: her fianc&eacute\; was murdered just before their wedding. Driven to 
 deliver justice for other crime victims\, Nancy became a felony prosecutor
  and for a decade\, put the &ldquo\;bad guys&rdquo\; behind...
DTSTART;TZID=America/New_York:20201027T200000
DTEND;TZID=America/New_York:20201027T210000
END:VEVENT
END:VCALENDAR
