BEGIN:VCALENDAR
PRODID:-//eluceo/ical//2.0/EN
VERSION:2.0
CALSCALE:GREGORIAN
BEGIN:VEVENT
UID:1d7f0cacce79f5f61c0754f17d9cdaf5
DTSTAMP:20260423T093625Z
SUMMARY:Mystical Zionism's Surprising Origins: Rav Kook's Early Decades
DESCRIPTION:Jewish Federation of West-Central New Jersey\nCommunity Calenda
 r\nhttps://jfedwcnj.org/calendar/mystical-zionisms-surprising-origins-rav-
 kooks-early-decades-1703183815\n\nRav (Rabbi) Abraham Isaac Kook was the f
 irst Ashkenazi chief rabbi of the Land of Israel\, an important theologian
 \, a foundational thinker of religious Zionism\, and the Zionist movement'
 s most influential and controversial rabbinic advocate. Prof. Yehuda Mirsk
 y (Brandeis University) will examine how Rav Kook's very unconventional Zi
 onism emerged from decades of meditation on metaphysics\, ethics\, and the
  distinctive spiritual challenges of modernity. This virtual talk is free 
 and open to the pu...
DTSTART;TZID=America/New_York:20240131T190000
DTEND;TZID=America/New_York:20240131T200000
END:VEVENT
END:VCALENDAR
