BEGIN:VCALENDAR
PRODID:-//eluceo/ical//2.0/EN
VERSION:2.0
CALSCALE:GREGORIAN
BEGIN:VEVENT
UID:15234dacb6d8e4cf87f309ae1ada853d
DTSTAMP:20260422T091538Z
SUMMARY:Myron Sugerman-Chronicles of The Last Jewish Gangster: From Meyer t
 o Myron
DESCRIPTION:Jewish Federation of West-Central New Jersey\nCommunity Calenda
 r\nhttps://jfedwcnj.org/calendar/myron-sugerman-chronicles-of-the-last-jew
 ish-gangster-from-meyer-to-myron\n\nThe Last Jewish Gangster begins in po
 stwar Newark\, New Jersey but follows Sugerman as he traverses the globe\,
  rubbing shoulders with dangerous men and legendary mob figures including 
 Longie Zwillman\, Meyer Lansky\, Joe "Doc" Statcher\, and Tony Bananas Cap
 onigro. He covers everything from his dealings with the fearsome Cali Cart
 el to helping famous Nazi hunter Simon Wiesenthal track down Dr. Josef Men
 gele in Paraguay\, and running a joint venture gambling machine operation 
 in Lagos. Sugerman wi...
DTSTART;TZID=America/New_York:20200126T090000
DTEND;TZID=America/New_York:20200126T110000
END:VEVENT
END:VCALENDAR
