BEGIN:VCALENDAR
PRODID:-//eluceo/ical//2.0/EN
VERSION:2.0
CALSCALE:GREGORIAN
BEGIN:VEVENT
UID:51e58fb99de5e567d86e3c4a731d9e67
DTSTAMP:20260420T140723Z
SUMMARY:MY WIFE SAID YOU MAY WANT TO MARRY ME- JASON ROSENTHAL
DESCRIPTION:Jewish Federation of West-Central New Jersey\nCommunity Calenda
 r\nhttps://jfedwcnj.org/calendar/my-wife-said-you-may-want-to-marry-me--ja
 son-rosenthal-1600783551\n\nAn inspiring memoir of life\, love\, loss\, an
 d new beginnings by the widower of bestselling author and filmmaker Amy Kr
 ouse Rosenthal\, whose last act of love before her death was setting the s
 tage for her husband’s life without her in a Modern Love column in the N
 ew York Times.\n\n On March 3\, 2017\, Amy Krouse Rosenthal penned a Moder
 n Love column for the New York Times –“”You May Want to Marry My Hus
 band.”” It appeared ten days before her death from ovarian cancer. A..
 .
DTSTART;TZID=America/New_York:20210304T190000
DTEND;TZID=America/New_York:20210304T210000
END:VEVENT
END:VCALENDAR
