BEGIN:VCALENDAR
PRODID:-//eluceo/ical//2.0/EN
VERSION:2.0
CALSCALE:GREGORIAN
BEGIN:VEVENT
UID:7d1413ef54bba328b19c8ed86d1d3fc8
DTSTAMP:20260422T162825Z
SUMMARY:My Jewish Year 18 Holidays\, One Wondering Jew
DESCRIPTION:Jewish Federation of West-Central New Jersey\nCommunity Calenda
 r\nhttps://jfedwcnj.org/calendar/my-jewish-year-18-holidays-one-wondering-
 jew\n\nWhether you’re seeking an accessible\, digestible roadmap for Jew
 ish life\, or a fresh take on what you have been practicing for a lifetime
 \, Abigail’s journey will leave you educated\, charmed and inspired. She
  had great teachers- over 60 rabbis - whose wisdoms are woven throughout A
 bigail’s personal journey.\n\nAbigail Pogrebin is a former producer for 
 60 Minutes and Charlie Rose\, and she moderates her own interview series a
 t the JCC Manhattan.
DTSTART;TZID=America/New_York:20180208T190000
DTEND;TZID=America/New_York:20180208T210000
END:VEVENT
END:VCALENDAR
