BEGIN:VCALENDAR
PRODID:-//eluceo/ical//2.0/EN
VERSION:2.0
CALSCALE:GREGORIAN
BEGIN:VEVENT
UID:7dcad7a4e575d8b55a93bc4060ac09cf
DTSTAMP:20260421T185624Z
SUMMARY:Muslim &Jewish Women: Building of Strong Mutual Trust\, Respect  &F
 riendship
DESCRIPTION:Jewish Federation of West-Central New Jersey\nCommunity Calenda
 r\nhttps://jfedwcnj.org/calendar/muslim-and-jewish-women-the-building-of-s
 trong-mutual-trust-respect-and-friendship\n\nPart One of Three Part Series
 : Muslim/Jewish Relations\n\nSheryl Olitzky is the Executive Director and 
 Co-founder of the Sisterhood of Salaam Shalom\, an emergence of all types
  of women from local groups\, designed to foster abiding relationships bet
 ween Muslim and Jewish Women. It is the first national grassroots organiza
 tion of Muslim and Jewish Women committed to living in harmony. In just a 
 few years\, this Sisterhood has grown into a movement with members through
 out the United States and C...
DTSTART;TZID=America/New_York:20171114T190000
DTEND;TZID=America/New_York:20171114T210000
END:VEVENT
END:VCALENDAR
