BEGIN:VCALENDAR
PRODID:-//eluceo/ical//2.0/EN
VERSION:2.0
CALSCALE:GREGORIAN
BEGIN:VEVENT
UID:a53547891edf2e79323c7c326830bd65
DTSTAMP:20260421T055024Z
SUMMARY:Music: Kol Dodi – It’s Chanukah and Time for Music!
DESCRIPTION:Jewish Federation of West-Central New Jersey\nCommunity Calenda
 r\nhttps://jfedwcnj.org/calendar/music-kol-dodi-its-chanukah-and-time-for-
 music\n\nMusic: Kol Dodi – It’s Chanukah and Time for Music! \n\nThis 
 veteran choral group will entertain us with songs\, in English\, Hebrew\, 
 Yiddish and Ladino.\n\n\nSunday\, December 18\, 2016\, 11:30\n$10/person\;
  $36/family
DTSTART;TZID=America/New_York:20161218T113000
DTEND;TZID=America/New_York:20161218T133000
END:VEVENT
END:VCALENDAR
