BEGIN:VCALENDAR
PRODID:-//eluceo/ical//2.0/EN
VERSION:2.0
CALSCALE:GREGORIAN
BEGIN:VEVENT
UID:55e46affac2873253d2c599ae7e9ac75
DTSTAMP:20260422T072453Z
SUMMARY:Music and the Brain
DESCRIPTION:Jewish Federation of West-Central New Jersey\nCommunity Calenda
 r\nhttps://jfedwcnj.org/calendar/music-and-the-brain-1576522445\n\nJoin th
 e Wilf Campus and Van Dyck Law for this presentation on how music can prov
 ide emotional and behavioral benefits for those with dementia.
DTSTART;TZID=America/New_York:20200115T140000
DTEND;TZID=America/New_York:20200115T153000
END:VEVENT
END:VCALENDAR
