BEGIN:VCALENDAR
PRODID:-//eluceo/ical//2.0/EN
VERSION:2.0
CALSCALE:GREGORIAN
BEGIN:VEVENT
UID:ec03ddebe0369f6cd4768c12e43fac1c
DTSTAMP:20260421T193516Z
SUMMARY:Murder Mystery Show and Dinner
DESCRIPTION:Jewish Federation of West-Central New Jersey\nCommunity Calenda
 r\nhttps://jfedwcnj.org/calendar/murder-mystery-show-and-dinner-1448343373
 \n\nSee what happens when a magical mishap leaves a million dollar inherit
 ance up for grabs when Temple B’nai Shalom hosts a Dinner & Murder Myste
 ry Show on Saturday\, December 5th at 7:30pm. There will be a catered buff
 et Italian dinner. Soft drinks\, dessert and coffee will be served. You ma
 y also bring your own wine. The cost is $50 per person. To register\, emai
 l office@bnaishalom.com or call 732-251-4300\, ext. 222. Temple B’nai Sh
 alom is located at 15 Fern Road\, on the corner of Fern & Old ...
DTSTART;TZID=America/New_York:20151205T193000
DTEND;TZID=America/New_York:20151205T223000
END:VEVENT
END:VCALENDAR
