BEGIN:VCALENDAR
PRODID:-//eluceo/ical//2.0/EN
VERSION:2.0
CALSCALE:GREGORIAN
BEGIN:VEVENT
UID:9d06d631ed7d2b4645d1d97675d26358
DTSTAMP:20260423T083514Z
SUMMARY:Murder Mystery Dinner
DESCRIPTION:Jewish Federation of West-Central New Jersey\nCommunity Calenda
 r\nhttps://jfedwcnj.org/calendar/murder-mystery-dinner-1455034439\n\nThing
 s take a turn for the gutter at Mafia Don Lou Zar&rsquo\;s juice joint whe
 n someone is put on ice! The crowd is chock full of potential suspects. Je
 alous\, jilted lovers\, a rival Mafioso\, and a pair of undercover feds ma
 ke an appearance at this speakeasy and not a single person is muttering a 
 word! Help find out who&rsquo\;s on the level and who&rsquo\;s on the lam 
 by trading clues with your guests\, gathering information\, and solving th
 e crime before the murderer hotfoots it out of there!\n\nYou can make the.
 ..
DTSTART;TZID=America/New_York:20160220T190000
DTEND;TZID=America/New_York:20160220T210000
END:VEVENT
END:VCALENDAR
