BEGIN:VCALENDAR
PRODID:-//eluceo/ical//2.0/EN
VERSION:2.0
CALSCALE:GREGORIAN
BEGIN:VEVENT
UID:47d1aaa9e4282be789d805b911aadfcf
DTSTAMP:20260420T152549Z
SUMMARY:MUKI JANKELOWITZ WITH WHAT’S NEWISH
DESCRIPTION:Jewish Federation of West-Central New Jersey\nCommunity Calenda
 r\nhttps://jfedwcnj.org/calendar/muki-jankelowitz-with-whats-newish\n\nThe
  What’s Newish learning group meets weekly and is open to everyone to j
 oin. The group will welcome guest speaker and popular Israeli tour guide\
 , Muki Jankelowitz to facilitate a session on Tribes of Israel.\n\n \n\n
 \n\n\n\n\n\n\n 
DTSTART;TZID=America/New_York:20210414T090000
DTEND;TZID=America/New_York:20210414T100000
END:VEVENT
END:VCALENDAR
